BEGIN:VCALENDAR
VERSION:2.0
PRODID:spatie/icalendar-generator
DESCRIPTION:Events from Living 365
X-WR-CALDESC:Events from Living 365
REFRESH-INTERVAL;VALUE=DURATION:PT1440M
X-PUBLISHED-TTL:PT1440M
BEGIN:VTIMEZONE
TZID:Etc/GMT+0
BEGIN:STANDARD
DTSTART:20190630T190000Z
TZOFFSETFROM:+0000
TZOFFSETTO:+0000
END:STANDARD
END:VTIMEZONE
BEGIN:VTIMEZONE
TZID:UTC
BEGIN:STANDARD
DTSTART:20250729T115701Z
TZOFFSETFROM:+0000
TZOFFSETTO:+0000
END:STANDARD
END:VTIMEZONE
BEGIN:VEVENT
UID:6-6
DTSTAMP:20260425T115701Z
SUMMARY:Love and Relationship Readings
LOCATION:
ORGANIZER;CN=admin:MAILTO:fcswlfded3i9@a2plcpnl0821.prod.iad2.secureserver.
 net
DTSTART;TZID=Etc/GMT+0:20200326T190000
DTEND;TZID=Etc/GMT+0:20200326T210000
X-ALT-DESC;FMTTYPE=TEXT/HTML:Let's talk about love. At this event\, a love 
 and relationship reading will be offered to the collective audience as a g
 roup. Three select participants will be intuitively chosen to receive a pe
 rsonal love reading. This event will be lead by the Intuitive Goddess\, Pr
 iya Ali\, Third Generation Intuitive Pyschic Healer and Medium. $33 Pre-Re
 gistration&amp;hellip\;
CATEGORIES:General
URL;VALUE=URI:https://living365.ca/mc-events/love-and-relationship-readings
 /?mc_id=6
END:VEVENT
END:VCALENDAR