BEGIN:VCALENDAR
VERSION:2.0
PRODID:spatie/icalendar-generator
DESCRIPTION:Events from Living 365
X-WR-CALDESC:Events from Living 365
REFRESH-INTERVAL;VALUE=DURATION:PT1440M
X-PUBLISHED-TTL:PT1440M
BEGIN:VTIMEZONE
TZID:Etc/GMT+0
BEGIN:STANDARD
DTSTART:20190122T000000Z
TZOFFSETFROM:+0000
TZOFFSETTO:+0000
END:STANDARD
END:VTIMEZONE
BEGIN:VTIMEZONE
TZID:UTC
BEGIN:STANDARD
DTSTART:20250729T210320Z
TZOFFSETFROM:+0000
TZOFFSETTO:+0000
END:STANDARD
END:VTIMEZONE
BEGIN:VEVENT
UID:3-3
DTSTAMP:20260425T210320Z
SUMMARY:opening ceremony
LOCATION:
ORGANIZER;CN=admin:MAILTO:fcswlfded3i9@a2plcpnl0821.prod.iad2.secureserver.
 net
DTSTART;TZID=Etc/GMT+0;VALUE=DATE:20191019
DTEND;TZID=Etc/GMT+0;VALUE=DATE:20191020
X-ALT-DESC;FMTTYPE=TEXT/HTML:All are invited for dinner
CATEGORIES:General
URL;VALUE=URI:https://living365.ca/mc-events/opening-ceremony/?mc_id=3
END:VEVENT
END:VCALENDAR